BEGIN:VCALENDAR
PRODID:-//eluceo/ical//2.0/EN
VERSION:2.0
CALSCALE:GREGORIAN
BEGIN:VEVENT
UID:3a5fda27ee5af310a379bc06a239b533
DTSTAMP:20260422T115042Z
SUMMARY:Der Green-AI Hub auf der Sustainable Economy Summit 2026
DESCRIPTION:Der Green-AI Hub ist bei der Sustainable Economy Summit in Berl
 in vor Ort und gibt mit den Guidelines for Green-AI konkrete Orientierung 
 für einen nachhaltigen und verantwortungsvollen Einsatz von KI.
DTSTART:20260422T113000
DTEND:20260422T121500
LOCATION:Pariser Platz 3\n10117 Berlin
ORGANIZER;CN=Green-AI Hub:mailto:info@green-ai-hub.de
END:VEVENT
END:VCALENDAR
