BEGIN:VCALENDAR
PRODID:-//eluceo/ical//2.0/EN
VERSION:2.0
CALSCALE:GREGORIAN
BEGIN:VEVENT
UID:2f4e3d340f15d704fff9e13d67c25e22
DTSTAMP:20260424T133233Z
SUMMARY:Green-AI Hub-Workshop: KI Readiness – fit für die digitale Trans
 formation
DESCRIPTION:Ist Ihr Unternehmen fit für KI? Im Green-AI Hub-Workshop lerne
 n Sie\, wie Unternehmen strategisch KI einsetzen\, welche Voraussetzungen 
 dafür notwendig sind und welche Rolle Mitarbeitende und Daten dabei spiel
 en.
DTSTART:20260428T090000
DTEND:20260428T100000
LOCATION:
ORGANIZER;CN=Green-AI Hub:mailto:info@green-ai-hub.de
END:VEVENT
END:VCALENDAR
