BEGIN:VCALENDAR
PRODID:-//eluceo/ical//2.0/EN
VERSION:2.0
CALSCALE:GREGORIAN
BEGIN:VEVENT
UID:81158c008b56434bb8fa1c9b19c4e61b
DTSTAMP:20260423T140411Z
SUMMARY:Der Green-AI Hub  auf der Digital Sustainability Summit 2026
DESCRIPTION:Der Green-AI Hub ist auf der Digital Sustainability Summit 2026
  des Bitkom e. V. mit einer eigenen Deep-Dive-Session vertreten und zeigt\
 , wie KI bereits heute messbare ökologische Wirkung entfaltet.
DTSTART:20260423T093000
DTEND:20260505T183000
LOCATION:Pufendorfstraße 11\n10249 Berlin
ORGANIZER;CN=Green-AI Hub:mailto:info@green-ai-hub.de
END:VEVENT
END:VCALENDAR
